BEGIN:VCALENDAR
VERSION:2.0
PRODID:-//wp-events-plugin.com//6.6.4.4//EN
TZID:Europe/Amsterdam
X-WR-TIMEZONE:Europe/Amsterdam
BEGIN:VEVENT
UID:3@masterclassnieuwezorg.nl
DTSTART;TZID=Europe/Amsterdam:20240904T130000
DTEND;TZID=Europe/Amsterdam:20240904T173000
DTSTAMP:20240604T141020Z
URL:https://www.masterclassnieuwezorg.nl/evenementen/masterclass-nieuwezor
 g-topclass-4-sept-2024/
SUMMARY:Masterclass NieuweZorg Topclass
DESCRIPTION:Masterclass NieuweZorg Topclass\nHet ziekenhuis van de toekomst
 \nOm onze alumni blijvend met elkaar te verbinden\, organiseren we op woen
 sdag 4 september aanstaande een Topclass\, met als thema ‘Het ziekenhuis
  van de toekomst’. Keynote speakers Diederik Gommers (Erasmus MC) en Wo
 uter Kok (BGrid) geven tijdens deze topclass hun visie over hoe het zieken
 huis van de toekomst eruit zou kunnen zien.\n\nTopclasses zijn exclusief v
 oor alumni én deelnemers aan het huidige collegejaar van de Masterclass N
 ieuweZorg. Onze Topclasses bieden topsprekers op actuele zorgthema's én g
 elegenheid elkaar weer te ontmoeten\, bij te praten en contacten op te doe
 n met Masterclass NieuweZorg alumni van alle collegejaren.\nMasterclass Ni
 euweZorg en de Topclasses zijn initiatieven van Derks &amp\; Derks.\n\n\n\
 n\n\nProgramma\n\n\nRotterdam\, 4 september 2024\n\n\n\n13.00-14.00u\nLunc
 h De Machinist (Willem Buytewechstraat 45\, 3024 BK Rotterdam)\n\n\n14.15-
 15.00u\nProf. dr. Diederik Gommers (ErasmusMC)\n(IC) zorg van de toekomst:
  data &amp\; AI\n\n\n15.00-15.15u\nKorte break\n\n\n15.15-16.00u\nWouter K
 ok (BGrid)\nSmart building technologie &amp\; data\n\n\n16.00-17.30u\nBorr
 el\n\n\n\n\n\nSpelregels/voorwaarden/kosten\n- Van oud-Masterclass NieuweZ
 org-deelnemers (dus niet van ingeschreven deelnemers voor collegejaar 2024
 /2025) wordt voor lunch\, zaalhuur en de netwerkborrel een bijdrage van 
 € 45\,00 excl. BTW gevraagd. Zij ontvangen na aanmelding een factuur.\n-
  Bij verhindering of annulering wordt de bijdrage niet gerestitueerd\, bij
  een overschot op de Topclass begroting wordt dit overgemaakt aan Stichtin
 g KiKa.\n- Het aantal plaatsen is beperkt tot maximaal 30 personen en deel
 name vindt plaats op volgorde van aanmelding. Schrijf je dus snel in via o
 nderstaande knop\, want vol = vol.\n\nMeer informatie?\nBel 033 - 303 07 5
 9 of mail naar info@masterclassnieuwezorg.nl
ATTACH;FMTTYPE=image/jpeg:https://www.masterclassnieuwezorg.nl/wp-content/
 uploads/Topclass-Ziekenhuisvandetoekomst-4-sep-2024.jpg
LOCATION:De Machinist\, Rotterdam\, Willem Buytewechstraat 45\, Rotterdam\,
  3024 BK\, Nederland
GEO:51.907862;4.461475
X-APPLE-STRUCTURED-LOCATION;VALUE=URI;X-ADDRESS=Willem Buytewechstraat 45\,
  Rotterdam\, 3024 BK\, Nederland;X-APPLE-RADIUS=100;X-TITLE=De Machinist\,
  Rotterdam:geo:51.907862,4.461475
END:VEVENT
BEGIN:VTIMEZONE
TZID:Europe/Amsterdam
X-LIC-LOCATION:Europe/Amsterdam
BEGIN:DAYLIGHT
DTSTART:20240331T030000
TZOFFSETFROM:+0100
TZOFFSETTO:+0200
TZNAME:CEST
END:DAYLIGHT
END:VTIMEZONE
END:VCALENDAR