BEGIN:VCALENDAR
VERSION:2.0
PRODID:-//wp-events-plugin.com//6.6.4.4//EN
TZID:Europe/Amsterdam
X-WR-TIMEZONE:Europe/Amsterdam
BEGIN:VEVENT
UID:7@masterclassnieuwezorg.nl
DTSTART;TZID=Europe/Amsterdam:20251029T191500
DTEND;TZID=Europe/Amsterdam:20251029T220000
DTSTAMP:20251015T141452Z
URL:https://www.masterclassnieuwezorg.nl/evenementen/masterclass-nieuwezor
 g-verkiezingsavond/
SUMMARY:Masterclass NieuweZorg Verkiezingsavond
DESCRIPTION:Masterclass NieuweZorg Verkiezingsavond\nExclusief voor genodig
 den\nEen bijzonder evenement\, exclusief voor genodigden: de Masterclass N
 ieuweZorg Verkiezingsavond op woensdag 29 oktober in het Hilton DoubleTree
  hotel in Rotterdam. Een avond vol inzichten\, ontmoeting en politieke dui
 ding.\n\nTijdens een interactief programma neemt Koen Venekamp (Lead Gover
 nment Affairs &amp\; Policy bij Johnson &amp\; Johnson) je mee in de zorgv
 isies van de politieke partijen. Vanuit zijn jarenlange ervaring in belang
 enbehartiging en stakeholdermanagement werpt hij een scherpe blik op de ve
 rkiezingsprogramma’s én - indien beschikbaar - de eerste exitpolls en u
 itslagen.\n\n 	Een inhoudelijk sterk én dynamisch programma\n 	Veel ruimt
 e voor dialoog en ontmoeting met deelnemers huidige collegejaar en andere 
 genodigden\n 	Live updates van de verkiezingsuitslagen op groot scherm\n\n
 Deelname uitsluitend op uitnodiging.
ATTACH;FMTTYPE=image/jpeg:https://www.masterclassnieuwezorg.nl/wp-content/
 uploads/MCNZ-event-Verkiezingsavond-29-okt.jpg
LOCATION:Hilton DoubleTree hotel\, Leuvehaven 80\, Rotterdam\, 3011 EA\, Ne
 derland
X-APPLE-STRUCTURED-LOCATION;VALUE=URI;X-ADDRESS=Leuvehaven 80\, Rotterdam\,
  3011 EA\, Nederland;X-APPLE-RADIUS=100;X-TITLE=Hilton DoubleTree hotel:ge
 o:0,0
END:VEVENT
BEGIN:VTIMEZONE
TZID:Europe/Amsterdam
X-LIC-LOCATION:Europe/Amsterdam
BEGIN:STANDARD
DTSTART:20251026T020000
TZOFFSETFROM:+0200
TZOFFSETTO:+0100
TZNAME:CET
END:STANDARD
END:VTIMEZONE
END:VCALENDAR